BEGIN:VCALENDAR
VERSION:2.0
PRODID:-//ChamberMaster//Event Calendar 2.0//EN
METHOD:PUBLISH
X-PUBLISHED-TTL:P3D
REFRESH-INTERVAL:P3D
CALSCALE:GREGORIAN
BEGIN:VEVENT
DTSTART:20250423T150000Z
DTEND:20250423T150000Z
X-MICROSOFT-CDO-ALLDAYEVENT:FALSE
SUMMARY:Level Up Your Business Workshop
DESCRIPTION:A Workshop for Business Leaders with Merin Coutts\n\nReady to take your business to the next level? \n\nThese transformative workshops are designed for ambitious small business owners who want to scale quickly\, double their growth in just 18 months\, and build a thriving organization. In just one action-packed day\, you'll learn proven strategies from systems like EOS\, Scaling Up\, and Value Builder to tackle challenges like inefficiencies\, cash flow issues\, and team misalignment. Walk away with a tailored action plan\, tools to streamline operations\, enhance leadership\, and improve communication\, plus valuable connections with like-minded entrepreneurs. \n\nThis is more than a workshop it's your springboard to success. If you're ready to move from working in your business to working on it\, secure your spot today and unlock your business's full potential!\n\nWednesday\, April 23\n\n9 AM to 4 PM\n\nSawridge Business Tower
X-ALT-DESC;FMTTYPE=text/html:<p class="cvGsUA direction-ltr align-end para-style-body" style="color: rgb(28\, 63\, 96)\; font-family: &quot\;YAFdJvSWHmc 0&quot\;\, _fb_\, auto\; --cyV3ZQ: 20.6667px\; --gJPlXQ: 1.11\; letter-spacing: -0.008em\; line-height: 22px\;"><span style="font-size:14px\;"><span style="font-family:arial\;"><span style="color:#000000\;"><span class="OYPEnA font-feature-liga-off font-feature-clig-off font-feature-calt-off text-decoration-none text-strikethrough-none" style="font-weight: 700\; font-kerning: none\;">A Workshop for Business Leaders with Merin Coutts</span></span></span></span></p>\n\n<p class="cvGsUA direction-ltr align-end para-style-body" style="color: rgb(28\, 63\, 96)\; font-family: &quot\;YAFdJvSWHmc 0&quot\;\, _fb_\, auto\; --cyV3ZQ: 20.0752px\; --gJPlXQ: 1.2\; line-height: 24px\;"><span style="font-size:14px\;"><span style="font-family:arial\;"><span class="OYPEnA font-feature-liga-off font-feature-clig-off font-feature-calt-off text-decoration-none text-strikethrough-none" style="font-style: italic\; font-kerning: none\;">Ready to take your business to the next level?</span><span class="OYPEnA font-feature-liga-off font-feature-clig-off font-feature-calt-off text-decoration-none text-strikethrough-none white-space-prewrap" style="font-kerning: none\;"> </span></span></span></p>\n\n<p class="cvGsUA direction-ltr align-end para-style-body" style="color: rgb(28\, 63\, 96)\; font-family: &quot\;YAFdJvSWHmc 0&quot\;\, _fb_\, auto\; --cyV3ZQ: 20.0752px\; --gJPlXQ: 1.2\; line-height: 24px\;"><span style="font-size:14px\;"><span style="font-family:arial\;"><span class="OYPEnA font-feature-liga-off font-feature-clig-off font-feature-calt-off text-decoration-none text-strikethrough-none" style="font-kerning: none\;">These transformative workshops are designed for ambitious small business owners who want to scale quickly\, double their growth in just 18 months\, and build a thriving organization. In just one action-packed day\, you&#39\;ll learn proven strategies from systems like EOS\, Scaling Up\, and Value Builder<span class="OYPEnA font-feature-liga-off font-feature-clig-off font-feature-calt-off text-decoration-none text-strikethrough-none white-space-prewrap" style="font-kerning: none\;"> </span>to tackle challenges like inefficiencies\, cash<span class="OYPEnA font-feature-liga-off font-feature-clig-off font-feature-calt-off text-decoration-none text-strikethrough-none white-space-prewrap" style="font-kerning: none\;"> </span>flow issues\, and team misalignment. Walk away with a tailored action plan\, tools to streamline operations\, enhance leadership\,<span class="OYPEnA font-feature-liga-off font-feature-clig-off font-feature-calt-off text-decoration-none text-strikethrough-none white-space-prewrap" style="font-kerning: none\;"> </span>and improve communication\, plus valuable connections with like-minded entrepreneurs.</span><span class="OYPEnA font-feature-liga-off font-feature-clig-off font-feature-calt-off text-decoration-none text-strikethrough-none white-space-prewrap" style="font-kerning: none\;"> </span></span></span></p>\n\n<p class="cvGsUA direction-ltr align-end para-style-body" style="color: rgb(28\, 63\, 96)\; font-family: &quot\;YAFdJvSWHmc 0&quot\;\, _fb_\, auto\; --cyV3ZQ: 20.0752px\; --gJPlXQ: 1.2\; line-height: 24px\;"><span style="font-size:14px\;"><span style="font-family:arial\;"><span class="OYPEnA font-feature-liga-off font-feature-clig-off font-feature-calt-off text-decoration-none text-strikethrough-none" style="font-kerning: none\;">This is more than a workshop&mdash\;it&rsquo\;s your springboard<span class="OYPEnA font-feature-liga-off font-feature-clig-off font-feature-calt-off text-decoration-none text-strikethrough-none white-space-prewrap" style="font-kerning: none\;"> </span>to success. If you&rsquo\;re ready to move from working in your business to working on it\, secure your spot today and unlock your business&rsquo\;s full potential!</span></span></span></p>\n\n<p class="cvGsUA direction-ltr align-end para-style-body" style="color: rgb(28\, 63\, 96)\; font-family: &quot\;YAFdJvSWHmc 0&quot\;\, _fb_\, auto\; --cyV3ZQ: 20.6667px\; --gJPlXQ: 1.11\; letter-spacing: -0.008em\; line-height: 22px\;"><span style="font-size:14px\;"><span style="font-family:arial\;"><span class="OYPEnA font-feature-liga-off font-feature-clig-off font-feature-calt-off text-decoration-none text-strikethrough-none" style="font-kerning: none\;">Wednesday\, April 23</span></span></span></p>\n\n<p class="cvGsUA direction-ltr align-end para-style-body" style="color: rgb(28\, 63\, 96)\; font-family: &quot\;YAFdJvSWHmc 0&quot\;\, _fb_\, auto\; --cyV3ZQ: 20.6667px\; --gJPlXQ: 1.2\; line-height: 24px\;"><span style="font-size:14px\;"><span style="font-family:arial\;"><span class="OYPEnA font-feature-liga-off font-feature-clig-off font-feature-calt-off text-decoration-none text-strikethrough-none" style="font-kerning: none\;">9 AM to 4 PM</span></span></span></p>\n\n<p class="cvGsUA direction-ltr align-end para-style-body" style="color: rgb(28\, 63\, 96)\; font-family: &quot\;YAFdJvSWHmc 0&quot\;\, _fb_\, auto\; --cyV3ZQ: 20.6667px\; --gJPlXQ: 1.2\; line-height: 24px\;"><span style="font-size:14px\;"><span style="font-family:arial\;"><span class="OYPEnA font-feature-liga-off font-feature-clig-off font-feature-calt-off text-decoration-none text-strikethrough-none" style="font-kerning: none\;">Sawridge Business Tower</span></span></span></p>\n
LOCATION:Ground floor banquet room in the Sawridge Business Tower\, attached to the BestWestern Plus at 410 Taiga Nova Crescent
UID:e.2702.2237
SEQUENCE:3
DTSTAMP:20260421T084504Z
URL:https://business.fortmcmurraychamber.ca/events/details/level-up-your-business-workshop-2237
END:VEVENT

END:VCALENDAR
