BEGIN:VCALENDAR
VERSION:2.0
PRODID:-//ChamberMaster//Event Calendar 2.0//EN
METHOD:PUBLISH
X-PUBLISHED-TTL:P3D
REFRESH-INTERVAL:P3D
CALSCALE:GREGORIAN
BEGIN:VEVENT
DTSTART:20260408T170000Z
DTEND:20260409T003000Z
X-MICROSOFT-CDO-ALLDAYEVENT:FALSE
SUMMARY:Chamber of Commerce Spring Job Fair
DESCRIPTION:Join us for one of Fort McMurray's most anticipated employment events of the year!\n\n\n\nWhether you're seeking a new opportunity or looking to build your team\, the 2026 Spring Job Fair is your chance to connect face-to-face with skilled professionals\, motivated job seekers\, and future collaborators.\n\n\n\nWhat to Expect:\n\n\n	Dozens of employers hiring across industries\n	Resume-ready job seekers of all experience levels\n	Informal networking in a welcoming\, community-first setting\n\n\nLimited spots available\, early registration is recommended.
X-ALT-DESC;FMTTYPE=text/html:<p data-end="291" data-start="273"><span style="font-family:red hat display light\;"><span style="font-size:12.0pt\;">Join us for one of Fort McMurray&rsquo\;s most anticipated employment events of the year!<br />\n<br />\nWhether you&#39\;re seeking a new opportunity or looking to build your team\, the 2026 Spring Job Fair is your chance to connect face-to-face with skilled professionals\, motivated job seekers\, and future collaborators.</span></span><br />\n<br />\n<span style="font-family:red hat display light\;"><span style="font-size:12.0pt\;">What to Expect:</span></span></p>\n\n<ul>\n	<li><span style="font-family:red hat display light\;"><span style="font-size:12.0pt\;">Dozens of employers hiring across industries</span></span></li>\n	<li><span style="font-family:red hat display light\;"><span style="font-size:12.0pt\;">Resume-ready job seekers of all experience levels</span></span></li>\n	<li><span style="font-family:red hat display light\;"><span style="font-size:12.0pt\;">Informal networking in a welcoming\, community-first setting</span></span></li>\n</ul>\n\n<p data-end="291" data-start="273"><span style="font-family:red hat display light\;"><span style="font-size:12.0pt\;">Limited spots available\, early registration is recommended.</span></span></p>\n
LOCATION:SMS Equipment Place at MacDonald Island Park - Grand Ballroom
UID:e.2702.2278
SEQUENCE:3
DTSTAMP:20260421T062612Z
URL:https://business.fortmcmurraychamber.ca/events/details/chamber-of-commerce-spring-job-fair-2278
END:VEVENT

END:VCALENDAR
